BEGIN:VCALENDAR
VERSION:2.0
PRODID:-//Conspiracy Events - ECPv6.8.3//NONSGML v1.0//EN
CALSCALE:GREGORIAN
METHOD:PUBLISH
X-ORIGINAL-URL:https://conspiracy-events.com
X-WR-CALDESC:Évènements pour Conspiracy Events
REFRESH-INTERVAL;VALUE=DURATION:PT1H
X-Robots-Tag:noindex
X-PUBLISHED-TTL:PT1H
BEGIN:VTIMEZONE
TZID:Europe/Paris
BEGIN:DAYLIGHT
TZOFFSETFROM:+0100
TZOFFSETTO:+0200
TZNAME:CEST
DTSTART:20240331T010000
END:DAYLIGHT
BEGIN:STANDARD
TZOFFSETFROM:+0200
TZOFFSETTO:+0100
TZNAME:CET
DTSTART:20241027T010000
END:STANDARD
END:VTIMEZONE
BEGIN:VEVENT
DTSTART;TZID=Europe/Paris:20240615T235900
DTEND;TZID=Europe/Paris:20240616T060000
DTSTAMP:20260421T145450
CREATED:20240608T002659Z
LAST-MODIFIED:20240608T003714Z
UID:1094-1718495940-1718517600@conspiracy-events.com
SUMMARY:Boiler Room Conspiracy
DESCRIPTION:✯ Un dernier tour ? Conspiracy Events clôture sa saison au Red Club comme elle a démarré : en Boiler Room\, façon Hard ! Cette configuration installe le DJ au milieu de la foule pour vivre les émotions au plus près. Un format convivial et intimiste\, sans gros show\, mais avec le DJ au plus prêt de la foule pour partager un moment unique avec notre public avant la pause de l’été.\nLa particularité de Conspiracy ? 6 heures de Hardmusic pour avoir de bonnes courbatures au jambes : du Hardstyle à l’Uptempo. Alors si tu n’as jamais vécu de Boiler Hard\, viens taper du pied vivre des émotions fortes à nos côtés pour la dernière de la saison ! ✯ \n\n\n\n\n★★★ LINE UP ★★★\n► Anonymonix (Hardstyle)\n► Shroompy (Raw)\n► Atomize (Xtra-Raw)\n► Kickmachine (Raw to Hardcore)\n► Basscontroller B2B Lausodre (Frenchcore/Uptempo)\n\n★★★ TARIFS ★★★\n\n\n\n► Préventes : 6€ (+frais de billetterie)\n► Prévente « tarif soutien » : 10€\n\nLIEN DE BILLETTERIE : https://shotgun.live/fr/events/conspiracy-boiler-room\n\n\n\n★★★ INFOS PRATIQUES ★★★\n\n► Sound System – 16kw Adamsom\n► Light Show by Red Club\n► Mapping\n► 7h de Hardmusic\n► Start 23h00 – End 6h00\n► Vestiaire obligatoire (2€ le sac)\n► Fumoir intérieur\n► Navette gratuite\n► Toute sortie est définitive\n► Soyez respectueux avec le personnel\, les organisateurs\, mais également les artistes\, le public et vous-même !\n\n★★★ LIEU ★★★\n\nRed Club\nZA de Chatenay\, 9 rue des compagnons 37210 La Rochecorbon\n\n★★★ NAVETTE A/R GRATUITE ★★★\n\n\n2 navettes qui feront des allers retours en continu\, de 23H30 et 07H00\, entre Porte de Loire et le RED. Elles sont totalement gratuites.\nPlus d’info en direct : 09 87 59 33 75\nPour ceux qui viennent en voiture\, pensez à choisir votre Sam avant la soirée ! Sam\, celui qui conduit\, c’est celui qui ne boit pas. On ne le redira jamais assez !
URL:https://conspiracy-events.com/event/boiler-room-conspiracy
LOCATION:RED Club\, 9 Rue des Compagnons\, Rochecorbon\, 37210\, France
ATTACH;FMTTYPE=image/jpeg:https://conspiracy-events.com/wp-content/uploads/2024/06/banniere-Boiler-Room.jpg
END:VEVENT
END:VCALENDAR